BEGIN:VCALENDAR
VERSION:2.0
PRODID:-//Qigongsenteret - Qigong i Oslo - ECPv5.15.0//NONSGML v1.0//EN
CALSCALE:GREGORIAN
METHOD:PUBLISH
X-WR-CALNAME:Qigongsenteret - Qigong i Oslo
X-ORIGINAL-URL:https://www.qigongsenteret.no
X-WR-CALDESC:Arrangement for Qigongsenteret - Qigong i Oslo
BEGIN:VTIMEZONE
TZID:Europe/Oslo
BEGIN:DAYLIGHT
TZOFFSETFROM:+0100
TZOFFSETTO:+0200
TZNAME:CEST
DTSTART:20190331T010000
END:DAYLIGHT
BEGIN:STANDARD
TZOFFSETFROM:+0200
TZOFFSETTO:+0100
TZNAME:CET
DTSTART:20191027T010000
END:STANDARD
END:VTIMEZONE
BEGIN:VEVENT
DTSTART;TZID=Europe/Oslo:20190416T080000
DTEND;TZID=Europe/Oslo:20190416T170000
DTSTAMP:20260424T134555
CREATED:20190117T101143Z
LAST-MODIFIED:20190117T101143Z
UID:5098-1555401600-1555434000@www.qigongsenteret.no
SUMMARY:16. april 2019 - Praxis
DESCRIPTION:Opptatt \nDel på..FacebookPinterestTwitterLinkedin
URL:https://www.qigongsenteret.no/event/16-april-2019-praxis/
CATEGORIES:3. etg
END:VEVENT
END:VCALENDAR