BEGIN:VCALENDAR
VERSION:2.0
PRODID:-//Qigongsenteret - Qigong i Oslo - ECPv5.15.0//NONSGML v1.0//EN
CALSCALE:GREGORIAN
METHOD:PUBLISH
X-WR-CALNAME:Qigongsenteret - Qigong i Oslo
X-ORIGINAL-URL:https://www.qigongsenteret.no
X-WR-CALDESC:Arrangement for Qigongsenteret - Qigong i Oslo
BEGIN:VTIMEZONE
TZID:Europe/Oslo
BEGIN:DAYLIGHT
TZOFFSETFROM:+0100
TZOFFSETTO:+0200
TZNAME:CEST
DTSTART:20190331T010000
END:DAYLIGHT
BEGIN:STANDARD
TZOFFSETFROM:+0200
TZOFFSETTO:+0100
TZNAME:CET
DTSTART:20191027T010000
END:STANDARD
END:VTIMEZONE
BEGIN:VEVENT
DTSTART;VALUE=DATE:20190330
DTEND;VALUE=DATE:20190331
DTSTAMP:20260426T024858
CREATED:20180630T211820Z
LAST-MODIFIED:20190309T190228Z
UID:4123-1553904000-1553990399@www.qigongsenteret.no
SUMMARY:30. mars 2019 - Vivian Yoga
DESCRIPTION:Hele lørdag \nDel på..FacebookPinterestTwitterLinkedin
URL:https://www.qigongsenteret.no/event/30-mars-2019-vivian-yoga/
CATEGORIES:3. etg
END:VEVENT
END:VCALENDAR